BEGIN:VCALENDAR
VERSION:2.0
PRODID:-//artiva sports - ECPv6.15.20//NONSGML v1.0//EN
CALSCALE:GREGORIAN
METHOD:PUBLISH
X-WR-CALNAME:artiva sports
X-ORIGINAL-URL:https://www.artiva-sports.com/en
X-WR-CALDESC:Events for artiva sports
REFRESH-INTERVAL;VALUE=DURATION:PT1H
X-Robots-Tag:noindex
X-PUBLISHED-TTL:PT1H
BEGIN:VTIMEZONE
TZID:Europe/Berlin
BEGIN:DAYLIGHT
TZOFFSETFROM:+0100
TZOFFSETTO:+0200
TZNAME:CEST
DTSTART:20250330T010000
END:DAYLIGHT
BEGIN:STANDARD
TZOFFSETFROM:+0200
TZOFFSETTO:+0100
TZNAME:CET
DTSTART:20251026T010000
END:STANDARD
BEGIN:DAYLIGHT
TZOFFSETFROM:+0100
TZOFFSETTO:+0200
TZNAME:CEST
DTSTART:20260329T010000
END:DAYLIGHT
BEGIN:STANDARD
TZOFFSETFROM:+0200
TZOFFSETTO:+0100
TZNAME:CET
DTSTART:20261025T010000
END:STANDARD
BEGIN:DAYLIGHT
TZOFFSETFROM:+0100
TZOFFSETTO:+0200
TZNAME:CEST
DTSTART:20270328T010000
END:DAYLIGHT
BEGIN:STANDARD
TZOFFSETFROM:+0200
TZOFFSETTO:+0100
TZNAME:CET
DTSTART:20271031T010000
END:STANDARD
END:VTIMEZONE
BEGIN:VEVENT
DTSTART;VALUE=DATE:20260707
DTEND;VALUE=DATE:20260708
DTSTAMP:20260421T035824
CREATED:20231029T110421Z
LAST-MODIFIED:20240826T170456Z
UID:23246-1783382400-1783468799@www.artiva-sports.com
SUMMARY:B2Run Stuttgart 2024
DESCRIPTION:[vc_row][vc_column][vc_column_text]The B2Run Stuttgart will take place this year on September 3 in NeckarPark.\nThe 5-kilometer running course takes you through the Neckarpark to the Fritz Walter Stadium.\nLast year\, almost 8000 runners started here.\nRegister for the Stuttgart B2Run in good time to secure your starting place. Customized team running shirts for the perfect team feeling  With artiva\, you can present yourself at the B2Run Stuttgart as a sporty and harmonious team in professional running shirts individually designed for you.\nYou’ll look great and feel great.\nEven after the event\, you will keep your running shirt as a wonderful souvenir of the Stuttgart B2Run company run.\nAnd thanks to the high quality\, you can continue to use the running shirt for many years to come.        We support your running team at the B2RUN in Stuttgart!  We fulfill your wish for individual company shirts/running shirts in your 100% own company design.\nWith your perfectly designed artiva team shirts in professional quality\, you will make a visual statement at this year’s B2RUN in Stuttgart and be the winners even before the start.\nLet us advise you personally.\nSend us your request – we will reply within a few hours.[/vc_column_text][/vc_column][/vc_row]
URL:https://www.artiva-sports.com/en/firmenlauf/b2run-stuttgart-2024
LOCATION:NeckarPark stadium\, Mercedesstrasse 50\, Stuttgart\, 70372\, Deutschland
ATTACH;FMTTYPE=image/jpeg:https://www.artiva-sports.com/wp-content/uploads/2023/10/b2run_stuttgart.jpg
END:VEVENT
END:VCALENDAR